BEGIN:VCALENDAR
VERSION:2.0
PRODID:-//CSANR-MV-PUY Admin Support - ECPv5.9.0//NONSGML v1.0//EN
CALSCALE:GREGORIAN
METHOD:PUBLISH
X-WR-CALNAME:CSANR-MV-PUY Admin Support
X-ORIGINAL-URL:https://cmp-admin-support.cw.wsu.edu
X-WR-CALDESC:Events for CSANR-MV-PUY Admin Support
BEGIN:VTIMEZONE
TZID:America/Los_Angeles
BEGIN:DAYLIGHT
TZOFFSETFROM:-0800
TZOFFSETTO:-0700
TZNAME:PDT
DTSTART:20240310T100000
END:DAYLIGHT
BEGIN:STANDARD
TZOFFSETFROM:-0700
TZOFFSETTO:-0800
TZNAME:PST
DTSTART:20241103T090000
END:STANDARD
END:VTIMEZONE
BEGIN:VEVENT
DTSTART;TZID=America/Los_Angeles:20240630T170000
DTEND;TZID=America/Los_Angeles:20240630T170000
DTSTAMP:20260422T091632
CREATED:20240510T222702Z
LAST-MODIFIED:20250603T223601Z
UID:2022-1719766800-1719766800@cmp-admin-support.cw.wsu.edu
SUMMARY:FY24 Deadline: Travel Spend Authorizations
DESCRIPTION:Travel Spend Authorizations for FY24 must be submitted via Workday by June 30\, 2024.
URL:https://cmp-admin-support.cw.wsu.edu/event/fy24-deadline-travel-spend-authorizations/
CATEGORIES:Travel
END:VEVENT
END:VCALENDAR